BEGIN:VCALENDAR
VERSION:2.0
PRODID:-//AI xpress - ECPv6.15.17.1//NONSGML v1.0//EN
CALSCALE:GREGORIAN
METHOD:PUBLISH
X-WR-CALNAME:AI xpress
X-ORIGINAL-URL:https://aixpress.io
X-WR-CALDESC:Veranstaltungen für AI xpress
REFRESH-INTERVAL;VALUE=DURATION:PT1H
X-Robots-Tag:noindex
X-PUBLISHED-TTL:PT1H
BEGIN:VTIMEZONE
TZID:Europe/Berlin
BEGIN:DAYLIGHT
TZOFFSETFROM:+0100
TZOFFSETTO:+0200
TZNAME:CEST
DTSTART:20230326T010000
END:DAYLIGHT
BEGIN:STANDARD
TZOFFSETFROM:+0200
TZOFFSETTO:+0100
TZNAME:CET
DTSTART:20231029T010000
END:STANDARD
BEGIN:DAYLIGHT
TZOFFSETFROM:+0100
TZOFFSETTO:+0200
TZNAME:CEST
DTSTART:20240331T010000
END:DAYLIGHT
BEGIN:STANDARD
TZOFFSETFROM:+0200
TZOFFSETTO:+0100
TZNAME:CET
DTSTART:20241027T010000
END:STANDARD
BEGIN:DAYLIGHT
TZOFFSETFROM:+0100
TZOFFSETTO:+0200
TZNAME:CEST
DTSTART:20250330T010000
END:DAYLIGHT
BEGIN:STANDARD
TZOFFSETFROM:+0200
TZOFFSETTO:+0100
TZNAME:CET
DTSTART:20251026T010000
END:STANDARD
END:VTIMEZONE
BEGIN:VEVENT
DTSTART;TZID=Europe/Berlin:20240813T173000
DTEND;TZID=Europe/Berlin:20241001T183000
DTSTAMP:20260421T102054
CREATED:20231221T134638Z
LAST-MODIFIED:20240925T095753Z
UID:10000338-1723570200-1727807400@aixpress.io
SUMMARY:Anmeldung STARTUP xpress CURRICULUM  - kostenlose BASIC Online-Vorträge
DESCRIPTION:Teilnahme an allen Startup BASIC Vorträgen vom 13.08.2024 – 01.10.2024 \n\n\n\n\n\n\n\n\n\n\n\n\n\n\n\n\n\nDas STARTUP xpress CURRICULUM ist ein Weiterbildungsangebot\, indem du als Startup im Landkreis Böblingen und Umgebung lernst\, effizient und gemeinsam mit anderen Gründern:innen durchzustarten\, um von Beginn an eine gute und erfolgreiche Basis für dein neues Unternehmen zu schaffen. \n\n\n\nBei Buchung des STARTUP xpress CURRICULUMS Voranmeldung ist dein Platz automatisch für alle 8 Vorträge gebucht. Du musst dich also nicht zusätzlich für einzelne Veranstaltungen anmelden.  \n\n\n\n>> Wichtig: Bitte teile uns aber mit\, wenn du an einer Veranstaltung nicht teilnehmen kannst. << \n\n\n\n\n\n\n\n\n\n\n\n\n\n\n\n\n\n\n\n\n\n\n\n\n\n\n\n\n\n\n\n\n\n\n\n\n\n\n\n\n\nEine detaillierte Themen- und Terminübersicht findest du auf der STARTUP xpress CURRICULUM Eventseite!  \n\n\n\n\nTerminübersicht\n\n\n\n\n\n\n\n\n\n  \n\nAnmeldung\n\n\n\n\n\nMit dieser Anmeldung bist du automatisch an allen BASIC Vorträgen der STARTUP xpress CURRICULUM Reihe für das 2. Halbjahr 2024 angemeldet!
URL:https://aixpress.io/events/anmeldung-startup-xpress-curriculum-basic-online-vortraegen/
LOCATION:AI xpress\, Röhrer Weg 8\, Böblingen\, 71032\, Deutschland
CATEGORIES:Events Startups
ATTACH;FMTTYPE=image/png:https://aixpress.io/wp-content/uploads/2023/12/AI_Curriculum_2480x580_RGB_Basic_13.8.-1.10.24-1.png
ORGANIZER;CN="AI xpress":MAILTO:info@aixpress.io
END:VEVENT
END:VCALENDAR