BEGIN:VCALENDAR
VERSION:2.0
PRODID:-//AI xpress - ECPv6.15.17.1//NONSGML v1.0//EN
CALSCALE:GREGORIAN
METHOD:PUBLISH
X-ORIGINAL-URL:https://aixpress.io
X-WR-CALDESC:Veranstaltungen für AI xpress
REFRESH-INTERVAL;VALUE=DURATION:PT1H
X-Robots-Tag:noindex
X-PUBLISHED-TTL:PT1H
BEGIN:VTIMEZONE
TZID:Europe/Berlin
BEGIN:DAYLIGHT
TZOFFSETFROM:+0100
TZOFFSETTO:+0200
TZNAME:CEST
DTSTART:20250330T010000
END:DAYLIGHT
BEGIN:STANDARD
TZOFFSETFROM:+0200
TZOFFSETTO:+0100
TZNAME:CET
DTSTART:20251026T010000
END:STANDARD
BEGIN:DAYLIGHT
TZOFFSETFROM:+0100
TZOFFSETTO:+0200
TZNAME:CEST
DTSTART:20260329T010000
END:DAYLIGHT
BEGIN:STANDARD
TZOFFSETFROM:+0200
TZOFFSETTO:+0100
TZNAME:CET
DTSTART:20261025T010000
END:STANDARD
BEGIN:DAYLIGHT
TZOFFSETFROM:+0100
TZOFFSETTO:+0200
TZNAME:CEST
DTSTART:20270328T010000
END:DAYLIGHT
BEGIN:STANDARD
TZOFFSETFROM:+0200
TZOFFSETTO:+0100
TZNAME:CET
DTSTART:20271031T010000
END:STANDARD
END:VTIMEZONE
BEGIN:VEVENT
DTSTART;TZID=Europe/Berlin:20260414T160000
DTEND;TZID=Europe/Berlin:20260414T190000
DTSTAMP:20260421T162707
CREATED:20250221T092805Z
LAST-MODIFIED:20260413T112632Z
UID:10000819-1776182400-1776193200@aixpress.io
SUMMARY:Wer soll dein Angebot kaufen und was suchen deine Kunden? – STARTUP xpress CURRICULUM Advanced (1. Halbjahr 2026)
DESCRIPTION:Präsenz-Workshop für Startups \n\n\n\n\n\nBeschreibung \n\n\n\nDu wunderst Dich oft\, warum du wenig Reaktion auf deine Versuche Kunden anzusprechen\, bekommst. Wir schauen uns Euren Markt an\, definieren und priorisieren deine Zielgruppen und helfen dir deren Prioritäten\, Wünsche\, Ängste und Sorgen zu verstehen. Damit kannst du sie dann viel gezielter ansprechen und hast Angebote\, die Kunden überzeugen. Damit bist du deutlich besser vorbereitet\, Kunden erfolgreich zu gewinnen \n\n\n\nIm Präsenz-Workshop gewinnst du einen Überblick über die wichtigsten Aspekte. Im Anschluss kannst du dich mit anderen Startups austauschen. Eine Anmeldung ist erforderlich. Die Teilnahme ist kostet 10€. \n\n\n\nDas STARTUP xpress CURRICULUM ist ein umfangreiches Vortrags- und Workshop Angebot für Startups bzw. Gründer:innen aus der Region Böblingen/Stuttgart. Es gibt dir alle Business Informationen und Werkzeuge an die Hand\, damit du für deinen Weg zu einem erfolgreichen Startup bestens gewappnet bist! \n\n\n\n \n\n\n\nDieser Event ist Teil des STARTUP xpress CURRICULUM. Für die Terminübersicht klicke den Button. \n\n\n\n\nWeitere Termine\n\n\n\n\n\n\n\n\n\n  \n\nSpeaker\n\n\n\n\n\n\n\n\n\n\n\n\n\nAndreas Heilemann\, Senioren der Wirtschaft e.V. \n\n\n\nist Mitglied bei den Senioren der Wirtschaft und berät seit 2023 Gründer/Startups und kleineren Mittelständlern aktiv.  \n\n\n\nSeine Kernthemen sind Strategie\, Kundengewinnung\, Vertrieb\, Services und deren Abbildung in Business- und Finanzplänen. Andreas kommt aus der Softwarentwicklung und IT-Beratung und war bis 2018 für den Abschluss und die Erbringung großer Anwendungsentwicklungsprojekte verantwortlich. Bei IBM war er unter anderem Partner im Consulting Bereich und Vorsitzender der Geschäftsführung einer Tochtergesellschaft.  \n\n\n\n\n\n\n\n\n\n\n\n\n  \n\nAnmeldung\n\n\n\n\n\n\n\n\n\n\n\n\n\n\n\n\n\n\n\n\n  \n\nVeranstalter
URL:https://aixpress.io/events/wer-soll-dein-angebot-kaufen-startup-curriculum-advanced-1-2026/
LOCATION:AI xpress\, Röhrer Weg 8\, Böblingen\, 71032\, Deutschland
CATEGORIES:Curriculum,Events Startups,Workshop
ATTACH;FMTTYPE=image/png:https://aixpress.io/wp-content/uploads/2025/02/AI_Curriculum_Advanced_2480x580_18.11.25-12.3.26.png
END:VEVENT
BEGIN:VEVENT
DTSTART;TZID=Europe/Berlin:20260414T160000
DTEND;TZID=Europe/Berlin:20260414T190000
DTSTAMP:20260421T162707
CREATED:20250221T094719Z
LAST-MODIFIED:20260319T091209Z
UID:10000818-1776182400-1776193200@aixpress.io
SUMMARY:Anmeldung STARTUP xpress CURRICULUM - ADVANCED Präsenz-Workshops (26/1)
DESCRIPTION:Teilnahme an allen Startup ADVANCED Präsenz-Workshops vom 14.04.26 – 14.07.26\n\n\n\n\n\n\n\n\n\n\n\n\n\n\n\n\n\nDas STARTUP xpress CURRICULUM ist ein Weiterbildungsangebot\, indem du als Startup im Landkreis Böblingen und Umgebung lernst\, effizient und gemeinsam mit anderen Gründern:innen durchzustarten\, um von Beginn an eine gute und erfolgreiche Basis für dein neues Unternehmen zu schaffen. \n\n\n\nBei Buchung des STARTUP xpress CURRICULUMS Voranmeldung ist dein Platz automatisch für alle 13 Workshops gebucht. Du musst dich also nicht zusätzlich für einzelne Veranstaltungen anmelden. Wichtig: Bitte teile uns aber mit\, wenn du an einer Veranstaltung nicht teilnehmen kannst. \n\n\n\n\n\n\n\n\n\n\n\n\n\n\n\n\n\n\n\n\n\n\n\n\n\n\n\n\n\n\n\n\n\n\n\n\n\n\n\n\n\nEine detaillierte Themen- und Terminübersicht findest du auf der STARTUP xpress CURRICULUM Eventseite!  \n\n\n\n\nTerminübersicht\n\n\n\n\n\n\n\n\n\n  \n\nAnmeldung\n\n\n\n\n\nMit dieser Anmeldung bist du automatisch an allen ADVANCED Workshops der STARTUP xpress CURRICULUM Reihe für das 1. Halbjahr 2026 angemeldet und bekommst eine Veranstaltung gratis! \n\n\n\nSonderpreis:
URL:https://aixpress.io/events/anmeldung-curriculum-advanced-1-26/
LOCATION:AI xpress\, Röhrer Weg 8\, Böblingen\, 71032\, Deutschland
CATEGORIES:Curriculum,Events Startups,Workshop
ATTACH;FMTTYPE=image/png:https://aixpress.io/wp-content/uploads/2025/02/AI_Curriculum_Advanced_2480x580_18.11.25-12.3.26.png
ORGANIZER;CN="AI xpress":MAILTO:info@aixpress.io
END:VEVENT
END:VCALENDAR