BEGIN:VCALENDAR
VERSION:2.0
PRODID:-//AI xpress - ECPv6.15.17.1//NONSGML v1.0//EN
CALSCALE:GREGORIAN
METHOD:PUBLISH
X-WR-CALNAME:AI xpress
X-ORIGINAL-URL:https://aixpress.io
X-WR-CALDESC:Veranstaltungen für AI xpress
REFRESH-INTERVAL;VALUE=DURATION:PT1H
X-Robots-Tag:noindex
X-PUBLISHED-TTL:PT1H
BEGIN:VTIMEZONE
TZID:Europe/Berlin
BEGIN:DAYLIGHT
TZOFFSETFROM:+0100
TZOFFSETTO:+0200
TZNAME:CEST
DTSTART:20250330T010000
END:DAYLIGHT
BEGIN:STANDARD
TZOFFSETFROM:+0200
TZOFFSETTO:+0100
TZNAME:CET
DTSTART:20251026T010000
END:STANDARD
BEGIN:DAYLIGHT
TZOFFSETFROM:+0100
TZOFFSETTO:+0200
TZNAME:CEST
DTSTART:20260329T010000
END:DAYLIGHT
BEGIN:STANDARD
TZOFFSETFROM:+0200
TZOFFSETTO:+0100
TZNAME:CET
DTSTART:20261025T010000
END:STANDARD
BEGIN:DAYLIGHT
TZOFFSETFROM:+0100
TZOFFSETTO:+0200
TZNAME:CEST
DTSTART:20270328T010000
END:DAYLIGHT
BEGIN:STANDARD
TZOFFSETFROM:+0200
TZOFFSETTO:+0100
TZNAME:CET
DTSTART:20271031T010000
END:STANDARD
END:VTIMEZONE
BEGIN:VEVENT
DTSTART;TZID=Europe/Berlin:20260505T160000
DTEND;TZID=Europe/Berlin:20260505T190000
DTSTAMP:20260421T210451
CREATED:20250221T093455Z
LAST-MODIFIED:20260226T101817Z
UID:10000821-1777996800-1778007600@aixpress.io
SUMMARY:RECHT - Roundtable: richtige Rechtsformwahl (Personengesellschaft/Kapitalgesellschaft) und Gesellschafterrechte  – STARTUP xpress CURRICULUM Advanced (1. Halbjahr 2026)
DESCRIPTION:Beschreibung \n\n\n\nIm Rahmen unseres Roundtables werden wir über gesellschaftsrechtliche Themen wie die richtige Rechtsformwahl (Personengesellschaft/Kapitalgesellschaft) und über Gesellschafterrechte sprechen. In diesem Zusammenhang sollen die sich aus der Beteiligung von Finanzinvestoren an Start-ups im Rahmen einer Beteiligungsvereinbarung ergebenden Probleme besonders berücksichtigt werden. \n\n\n\nAngesprochen werden auch die rechtlichen Grundlagen im E-Commerce sowie die Funktionsweise und der Einsatz von Smart-Contracts im Unternehmen. \n\n\n\nWeitere Themen sind Compliance\, Corporate Governance und Corporate Social Responsibilty\, deren rechtliche Rahmenbedingungen und Umsetzung im Unternehmen und nicht zuletzt Hinweise für den Fall einer Krisensituation mit der Notwendigkeit von Restrukturierung\, Sanierung\, Personalbestandsanpassung\, Insolvenz und Neustart. \n\n\n\nSchließlich soll über die Anwendung von Schiedsvertragsklauseln in Verträgen berichtet werden sowie über das Recht der Allgemeinen Geschäftsbedingungen. \n\n\n\nNutzen für die Besucher:innen  \n\n\n\n\nIhr gewinnt mehr Sicherheit in wichtigen Rechtsfragen\, wie Rechtsform\, AGBs\, Beteiligungsverträge\, Compliance usw.\n\n\n\n\nZielgruppe: \n\n\n\n\nStartups\n\n\n\n\n\n\n\n\n\n\n \n\n\n\n\n\n \n\n\n\n\n\n\n\n\n  \n\nSpeaker\n\n\n\n\n\n\n\n\n\n\n\n \n\n\n\nDr. Andreas Beyer\, LL.M\, Lehrbeauftragter an der Hochschule Karlsruhe – Technik und Wirtschaft\, Mitglied Deutsch-Britische Juristenvereinigung\, Deutscher Anwaltsverein \n\n\n\nGeboren in Stuttgart\, Studium der Rechtswissenschaften an den Universitäten Tübingen und London. Promotion 1984 mit dem Thema „Zusammen-schlusskontrolle im englischen und deutschen Recht unter besonderer Berücksichtigung von Sanierungsfusionen“. Seit 1980 Rechtsanwalt.Tätigkeit in der Industrie u.a. als General Counsel der KUKA AG\, Vorsitzender des Vorstandes der Jagenberg AG\, Generalbevollmächtigter der Rheinmetall AG und verantwortlich für Mergers & Acquisitions\, Compliance (Chief Compliance Officer)\, Recht\, Interne Revision\, Versicherungen. \n\n\n\n \n\n\n\n\n\n\n\n\n\n\n\n\n\n \n\n\n\nGeorgia Voudoulaki\, Senior Legal Counsel und zertifizierte Compliance Officer (Univ.) mit Spezialisierung auf Datenschutz und Künstliche Intelligenz \n\n\n\nAls Senior Legal Counsel und zertifizierte Compliance Officer (Univ.) mit Spezialisierung auf Datenschutz und Künstliche Intelligenz bringe ich nicht nur fundiertes juristisches Fachwissen mit\, sondern auch praktische Erfahrung an der Schnittstelle von Technologie\, Innovation und Regulierung. Ich unterstütze Unternehmen dabei\, KI-Anwendungen rechtskonform\, ethisch und zukunftssicher zu gestalten – ein Know-how\, das insbesondere für Startups von entscheidendem Wert ist. \n\n\n\nMein Impuls gibt einen kompakten Überblick über die kommenden regulatorischen Anforderungen durch den EU AI Act – und was das ganz konkret für KI-Startups bedeutet. Ich zeige\, wie man Datenschutz\, Transparenzpflichten und Risikomanagement von Anfang an mitdenkt und sich so nicht nur rechtlich absichert\, sondern auch das Vertrauen von Nutzer:innen und Investor:innen stärkt. \n\n\n\n\n\n\n\n\n\n\n\n\n\n \n\n\n\nDr. Axel Hausch\, Geboren in Kirchheim/Teck\, Studium der Rechtswissenschaft in Tübingen. Nach einer Tätigkeit als Rechtsanwalt Mitarbeiter eines mittelständigen Versicherungskonzerns in Stuttgart. Dort zuletzt als Leiter der Rechtsabteilung u.a. für die Gestaltung von Verträgen und die Umsetzung von europarechtlichen Vorgaben\, insbesondere dem Digital Operational Resilience Act („DORA“)\, zuständig. \n\n\n\nIch gebe einen Überblick über die grundlegenden rechtlichen und praktischen Fragen der Vertragsgestaltung und der Verhandlungsführung und erläutere insbesondere die Auswirkungen von neuen europarechtlichen Regelungen auf die Vertragsgestaltung und die Verpflichtungen der Vertragspartner. Ziel des Vortrages ist es\, das oft bestehende „Ungleichgewicht“ zwischen den rechtlichen Kenntnissen des Inhabers eines Start-Up einerseits und seinem in der Regel juristisch gut informierten Kunden andererseits etwas auszugleichen. \n\n\n\n \n\n\n\n\n\n\n\n\n\n\n\n\n\n \n\n\n\nRalf Weygand\, ist gelernter Bankkaufmann und Betriebswirt\, geboren in Mannheim und „Wahl-Schwabe“ mit Lebensmittelpunkt in Renningen. Nach zahlreichen beruflichen Stationen als Finanzierungsexperte\, Projekt- und IT-Manager\, ehemaliger CIO und CFO im Finanzsektor sowie als Unternehmensberater ist er mittlerweile im Umfeld der Digitalen Transformation als Brückenbauer zwischen der Business- und IT-Seite tätig. Seine handlungsleitende Devise lautet „Jeder Use Case benötigt auch einen Business Case“. Als erfahrener Outsourcing-Berater und Organisationsentwickler ist er Sparringpartner bei „make and/or buy“-Entscheidungen\, insbesondere auch bei Lösungen in oder für regulierte Branchen. Darüber hinaus ist er als Leadership Coach tätig und unterstützt Unternehmen und Führungskräfte in anspruchsvollen Veränderungssituationen. \n\n\n\n \n\n\n\n\n\n\n\n\n\n\n\n\n\n\n\n\n  \n\nAnmeldung\n\n\n\n\n\n\n\n\n\n\n\n \n\n\n\n\n\n\n  \n\nVeranstalter
URL:https://aixpress.io/events/recht-roundtable-startup-curriculum-advanced-1-2026/
CATEGORIES:Events Startups
ATTACH;FMTTYPE=image/png:https://aixpress.io/wp-content/uploads/2025/02/AI_Curriculum_Advanced_2480x580_18.11.25-12.3.26.png
END:VEVENT
END:VCALENDAR