BEGIN:VCALENDAR
VERSION:2.0
PRODID:-//AI xpress - ECPv6.15.17.1//NONSGML v1.0//EN
CALSCALE:GREGORIAN
METHOD:PUBLISH
X-ORIGINAL-URL:https://aixpress.io
X-WR-CALDESC:Veranstaltungen für AI xpress
REFRESH-INTERVAL;VALUE=DURATION:PT1H
X-Robots-Tag:noindex
X-PUBLISHED-TTL:PT1H
BEGIN:VTIMEZONE
TZID:Europe/Berlin
BEGIN:DAYLIGHT
TZOFFSETFROM:+0100
TZOFFSETTO:+0200
TZNAME:CEST
DTSTART:20250330T010000
END:DAYLIGHT
BEGIN:STANDARD
TZOFFSETFROM:+0200
TZOFFSETTO:+0100
TZNAME:CET
DTSTART:20251026T010000
END:STANDARD
BEGIN:DAYLIGHT
TZOFFSETFROM:+0100
TZOFFSETTO:+0200
TZNAME:CEST
DTSTART:20260329T010000
END:DAYLIGHT
BEGIN:STANDARD
TZOFFSETFROM:+0200
TZOFFSETTO:+0100
TZNAME:CET
DTSTART:20261025T010000
END:STANDARD
BEGIN:DAYLIGHT
TZOFFSETFROM:+0100
TZOFFSETTO:+0200
TZNAME:CEST
DTSTART:20270328T010000
END:DAYLIGHT
BEGIN:STANDARD
TZOFFSETFROM:+0200
TZOFFSETTO:+0100
TZNAME:CET
DTSTART:20271031T010000
END:STANDARD
END:VTIMEZONE
BEGIN:VEVENT
DTSTART;TZID=Europe/Berlin:20260506T090000
DTEND;TZID=Europe/Berlin:20260506T170000
DTSTAMP:20260421T212521
CREATED:20260209T102759Z
LAST-MODIFIED:20260209T102949Z
UID:10000827-1778058000-1778086800@aixpress.io
SUMMARY:Kostenfreie Existenzgründungsberatung im AI xpress!
DESCRIPTION:Das Existenzgründungsberatungs-Team der Kreissparkasse Böblingen: Noah Lipp und Sven Rinderknecht \n\n\n\n\n\n\n\n\n\nDu willst Dein eigenes Business starten? Oder suchst eine Nachfolge-Lösung? \n\n\n\nDann nutze die kostenfreie Existenzgründungsberatung der Kreissparkasse Böblingen im COWORKING! \n\n\n\n\n\n\n\nDeine Vorteile auf einen Blick:🔍 Ganzheitliche Analyse und Beratung💶 Zugang/Hilfe zu passenden Fördermitteln & Darlehen🤝 Großes Netzwerk aus Experten📍 Vor-Ort-Betreuung im AI xpress \n\n\n\n\n\n\n\nKontakt für kostenfreie Terminvereinbarung: \n\n\n\n📧 Sven Rinderknecht – Sven.rinderknecht@kskbb.de | ☎️ 07031 77-1924 \n\n\n\n \n\n\n\n\n\n\n\nDiese Veranstaltung findet statt\, Dank Unterstützung von:
URL:https://aixpress.io/events/kostenfreie-existenzgruendungsberatung-im-ai-xpress-7/2026-05-06/
CATEGORIES:Curriculum,Events Jugendliche,Events Startups,Workshop
ATTACH;FMTTYPE=image/png:https://aixpress.io/wp-content/uploads/2025/01/AI_Linkedin_EventProfile_1584x396_RGB.png
END:VEVENT
END:VCALENDAR