BEGIN:VCALENDAR
VERSION:2.0
PRODID:-//AI xpress - ECPv6.15.17.1//NONSGML v1.0//EN
CALSCALE:GREGORIAN
METHOD:PUBLISH
X-WR-CALNAME:AI xpress
X-ORIGINAL-URL:https://aixpress.io
X-WR-CALDESC:Veranstaltungen für AI xpress
REFRESH-INTERVAL;VALUE=DURATION:PT1H
X-Robots-Tag:noindex
X-PUBLISHED-TTL:PT1H
BEGIN:VTIMEZONE
TZID:Europe/Berlin
BEGIN:DAYLIGHT
TZOFFSETFROM:+0100
TZOFFSETTO:+0200
TZNAME:CEST
DTSTART:20250330T010000
END:DAYLIGHT
BEGIN:STANDARD
TZOFFSETFROM:+0200
TZOFFSETTO:+0100
TZNAME:CET
DTSTART:20251026T010000
END:STANDARD
BEGIN:DAYLIGHT
TZOFFSETFROM:+0100
TZOFFSETTO:+0200
TZNAME:CEST
DTSTART:20260329T010000
END:DAYLIGHT
BEGIN:STANDARD
TZOFFSETFROM:+0200
TZOFFSETTO:+0100
TZNAME:CET
DTSTART:20261025T010000
END:STANDARD
BEGIN:DAYLIGHT
TZOFFSETFROM:+0100
TZOFFSETTO:+0200
TZNAME:CEST
DTSTART:20270328T010000
END:DAYLIGHT
BEGIN:STANDARD
TZOFFSETFROM:+0200
TZOFFSETTO:+0100
TZNAME:CET
DTSTART:20271031T010000
END:STANDARD
END:VTIMEZONE
BEGIN:VEVENT
DTSTART;TZID=Europe/Berlin:20260519T160000
DTEND;TZID=Europe/Berlin:20260519T190000
DTSTAMP:20260422T020512
CREATED:20250221T093335Z
LAST-MODIFIED:20260413T112948Z
UID:10000822-1779206400-1779217200@aixpress.io
SUMMARY:Preisbildung\, Revenue Streams\, Monetarisierung und Lizensierung – STARTUP xpress CURRICULUM Advanced (1. Halbjahr 2026)
DESCRIPTION:Präsenz-Workshop für Startups \n\n\n\n\n\nBeschreibung \n\n\n\nDie Gestaltung von Preisstrategien\, die Identifikation von Einnahmequellen\, sowie die Monetarisierung und Lizenzierung von Produkten und Dienstleistungen sind zentrale Herausforderungen für Startups auf dem Weg zum Markterfolg. In unserem Workshop beleuchten wir am Beispiel erfolgreicher Unternehmen\, wie du deine Preisstrategie optimieren\, vielfältige Einnahmequellen erschließen und effektive Monetarisierungs- und Lizenzierungsmodelle entwickeln kannst. Wir diskutieren die Bedeutung der Wertbestimmung\, die Auswirkungen verschiedener Preisstrategien auf die Nachfrage und wie du durch kreative Monetarisierungsansätze und intelligente Lizenzierung die Rentabilität deines Startups steigern kannst. Teilnehmende erhalten Einblicke in Fallstudien und bewährte Praktiken\, um ihre eigenen Revenue Streams zu diversifizieren und zu maximieren. \n\n\n\nIm Präsenz-Workshop gewinnst du einen Überblick über die wichtigsten Aspekte. Im Anschluss kannst du dich mit anderen Startups austauschen. Eine Anmeldung ist erforderlich. Die Teilnahme kostet 10€. \n\n\n\nDas STARTUP xpress CURRICULUM ist ein umfangreiches Vortrags- und Workshop Angebot für Startups bzw. Gründer:innen aus der Region Böblingen/Stuttgart. Es gibt dir alle Business Informationen und Werkzeuge an die Hand\, damit du für deinen Weg zu einem erfolgreichen Startup bestens gewappnet bist! \n\n\n\nDieser Event ist Teil des STARTUP xpress CURRICULUM. Für die Terminübersicht klicke den Button. \n\n\n\n\nWeitere Termine\n\n\n\n\n\n\n\n\n\n\n\n\n\n  \n\nSpeaker\n\n\n\n\n\n\n\n\n\n\n\n \n\n\n\nLothar Schubert\, Senioren der Wirtschaft \n\n\n\nist Betriebswirtschaftler mit langjähriger Management-Erfahrung in der Verlags- und Medienbranche. Für die Senioren der Wirtschaft ist er mit Herzblut als Wirtschaftssenior für Startups und kleine Unternehmen tätig\, sein Lieblingsfeld sind digitale Geschäftsmodelle. Er ist Referent für Vorträge und Workshops bei Hochschulen\, Acceleratoren und anderen Institutionen\, Gastdozent an der Hochschule der Medien\, Berater im Gründerbüro der Stadt Stuttgart und Gründerlotse im Raum Böblingen. \n\n\n\n\n\n\n\n\n\n\n\n\n\n\n\n\n  \n\nAnmeldung\n\n\n\n\n\n\n\n\n\n\n\n\n\n\n\n\n  \n\nVeranstalter
URL:https://aixpress.io/events/preisbildung-startup-curriculum-advanced-1-2026/
LOCATION:AI xpress\, Röhrer Weg 8\, Böblingen\, 71032\, Deutschland
CATEGORIES:Curriculum,Events Startups,Workshop
ATTACH;FMTTYPE=image/png:https://aixpress.io/wp-content/uploads/2025/02/AI_Curriculum_Advanced_2480x580_18.11.25-12.3.26.png
END:VEVENT
END:VCALENDAR