BEGIN:VCALENDAR
VERSION:2.0
PRODID:-//AI xpress - ECPv6.15.17.1//NONSGML v1.0//EN
CALSCALE:GREGORIAN
METHOD:PUBLISH
X-WR-CALNAME:AI xpress
X-ORIGINAL-URL:https://aixpress.io
X-WR-CALDESC:Veranstaltungen für AI xpress
REFRESH-INTERVAL;VALUE=DURATION:PT1H
X-Robots-Tag:noindex
X-PUBLISHED-TTL:PT1H
BEGIN:VTIMEZONE
TZID:Europe/Berlin
BEGIN:DAYLIGHT
TZOFFSETFROM:+0100
TZOFFSETTO:+0200
TZNAME:CEST
DTSTART:20250330T010000
END:DAYLIGHT
BEGIN:STANDARD
TZOFFSETFROM:+0200
TZOFFSETTO:+0100
TZNAME:CET
DTSTART:20251026T010000
END:STANDARD
BEGIN:DAYLIGHT
TZOFFSETFROM:+0100
TZOFFSETTO:+0200
TZNAME:CEST
DTSTART:20260329T010000
END:DAYLIGHT
BEGIN:STANDARD
TZOFFSETFROM:+0200
TZOFFSETTO:+0100
TZNAME:CET
DTSTART:20261025T010000
END:STANDARD
BEGIN:DAYLIGHT
TZOFFSETFROM:+0100
TZOFFSETTO:+0200
TZNAME:CEST
DTSTART:20270328T010000
END:DAYLIGHT
BEGIN:STANDARD
TZOFFSETFROM:+0200
TZOFFSETTO:+0100
TZNAME:CET
DTSTART:20271031T010000
END:STANDARD
END:VTIMEZONE
BEGIN:VEVENT
DTSTART;TZID=Europe/Berlin:20260707T160000
DTEND;TZID=Europe/Berlin:20260707T190000
DTSTAMP:20260424T163335
CREATED:20250221T094327Z
LAST-MODIFIED:20260415T080900Z
UID:10000835-1783440000-1783450800@aixpress.io
SUMMARY:Erfolgreicher B2B-Vertrieb / Sales Training – STARTUP xpress CURRICULUM Advanced (1. Halbjahr 2026)
DESCRIPTION:Präsenz-Workshop für Startups \n\n\n\n\n\nBeschreibung \n\n\n\nEin effektiver Vertrieb ist das Rückgrat jedes erfolgreichen Unternehmens\, und die Fähigkeit\, Produkte oder Dienstleistungen überzeugend zu präsentieren und zu verkaufen\, kann entscheidend für das Wachstum sein. Unser Event „Erfolgreicher Vertrieb / Sales Training“ zielt darauf ab\, Teilnehmenden die neuesten Techniken und Strategien im Vertrieb zu vermitteln. Erfahrene Vertriebsexperten und erfolgreiche Unternehmer teilen ihre Einblicke und bewährten Methoden\, um Verkaufszahlen zu steigern und dauerhafte Kundenbeziehungen aufzubauen. \n\n\n\nIn interaktiven Workshops und Vorträgen lernen die Teilnehmenden\, wie sie effektive Verkaufsgespräche führen\, Einwände gekonnt entkräften und Abschlüsse erfolgreich verhandeln. Es werden Schlüsselkonzepte wie Value Selling und Solution Selling behandelt\, um den Wert des Angebots für den Kunden hervorzuheben. Zusätzlich wird auf die Bedeutung von CRM-Systemen und Datenanalyse eingegangen\, um Vertriebsprozesse zu optimieren und personalisierte Kundenansprachen zu entwickeln. \n\n\n\nDieses Event bietet eine hervorragende Gelegenheit\, praktische Vertriebsfähigkeiten zu erlernen\, sich mit Gleichgesinnten auszutauschen und ein Netzwerk mit Branchenexperten aufzubauen\, die den Vertriebserfolg nachhaltig steigern können. \n\n\n\nIm Präsenz-Workshop gewinnst du einen Überblick über die wichtigsten Aspekte. Im Anschluss kannst du dich mit anderen Startups austauschen. Eine Anmeldung ist erforderlich. Die Teilnahme kostet 10€.  \n\n\n\nDas STARTUP xpress CURRICULUM ist ein umfangreiches Vortrags- und Workshop Angebot für Startups bzw. Gründer:innen aus der Region Böblingen/Stuttgart. Es gibt dir alle Business Informationen und Werkzeuge an die Hand\, damit du für deinen Weg zu einem erfolgreichen Startup bestens gewappnet bist! \n\n\n\nDieser Event ist Teil des STARTUP xpress CURRICULUM. Für die Terminübersicht klicke den Button. \n\n\n\n\nWeitere Termine\n\n\n\n\n\n\n\n\n\n  \n\nSpeaker\n\n\n\n\n\n\n\n\n\n\n\n \n\n\n\n \n\n\n\nErwin Tilemann\, Senioren der Wirtschaft e. V. \n\n\n\nist Vorstandsmitglied bei den Senioren der Wirtschaft und berät seit 15 Jahren Startups/Gründer sowie kleine Mittelständler. Seine Kernthemen bei vielen Patenschaften sind Strategie\, persönliche Coachings sowie alles rund um Kundengewinnung und Vertrieb. \n\n\n\nEr hält Vorträge bei IHK’s\, Wirtschaftsförderer etc. und führt Workshops bei Acceleratoren bzw. anderen Institutionen durch. Davor war er Direktor und Leiter Vertrieb bei IBM.   \n\n\n\n\n\n\n\n\n\n\n\n\n\n\n\n\n  \n\nAnmeldung\n\n\n\n\n\n\n\n\n\n\n\n\n\n\n\n\n  \n\nVeranstalter
URL:https://aixpress.io/events/erfolgreicher-vertrieb-startup-curriculum-advanced-1-2026/
LOCATION:AI xpress\, Röhrer Weg 8\, Böblingen\, 71032\, Deutschland
CATEGORIES:Curriculum,Events Startups
ATTACH;FMTTYPE=image/png:https://aixpress.io/wp-content/uploads/2025/02/AI_Curriculum_Advanced_2480x580_18.11.25-12.3.26.png
END:VEVENT
END:VCALENDAR