BEGIN:VCALENDAR
VERSION:2.0
PRODID:-//AI xpress - ECPv6.15.17.1//NONSGML v1.0//EN
CALSCALE:GREGORIAN
METHOD:PUBLISH
X-WR-CALNAME:AI xpress
X-ORIGINAL-URL:https://aixpress.io
X-WR-CALDESC:Veranstaltungen für AI xpress
REFRESH-INTERVAL;VALUE=DURATION:PT1H
X-Robots-Tag:noindex
X-PUBLISHED-TTL:PT1H
BEGIN:VTIMEZONE
TZID:Europe/Berlin
BEGIN:DAYLIGHT
TZOFFSETFROM:+0100
TZOFFSETTO:+0200
TZNAME:CEST
DTSTART:20250330T010000
END:DAYLIGHT
BEGIN:STANDARD
TZOFFSETFROM:+0200
TZOFFSETTO:+0100
TZNAME:CET
DTSTART:20251026T010000
END:STANDARD
BEGIN:DAYLIGHT
TZOFFSETFROM:+0100
TZOFFSETTO:+0200
TZNAME:CEST
DTSTART:20260329T010000
END:DAYLIGHT
BEGIN:STANDARD
TZOFFSETFROM:+0200
TZOFFSETTO:+0100
TZNAME:CET
DTSTART:20261025T010000
END:STANDARD
BEGIN:DAYLIGHT
TZOFFSETFROM:+0100
TZOFFSETTO:+0200
TZNAME:CEST
DTSTART:20270328T010000
END:DAYLIGHT
BEGIN:STANDARD
TZOFFSETFROM:+0200
TZOFFSETTO:+0100
TZNAME:CET
DTSTART:20271031T010000
END:STANDARD
END:VTIMEZONE
BEGIN:VEVENT
DTSTART;TZID=Europe/Berlin:20260714T160000
DTEND;TZID=Europe/Berlin:20260714T200000
DTSTAMP:20260424T163450
CREATED:20250221T094503Z
LAST-MODIFIED:20260415T080930Z
UID:10000836-1784044800-1784059200@aixpress.io
SUMMARY:Pitch Training – STARTUP xpress CURRICULUM Advanced (1. Halbjahr 2026)
DESCRIPTION:Präsenz-Workshop für Startups \n\n\n\n\n\nBeschreibung \n\n\n\nWie geht eine erfolgreiche Präsentation vor Kunden oder Investoren für neue Angebote oder Startups? Wie kann ich mich gezielt darauf vorbereiten? In einem interaktiven Vortrag mit Praxisbeispielen erfährst du\, worauf zu achten ist. Das Resultat ist\, dass du bessere Pitches mit einer klaren Struktur und Fokus auf die richtigen Inhalte erreichen und deine Darstellung die Zielgruppe überzeugt. Im Workshop gehen auf deine individuelle Situation ein\, du profitierst besonders vom Austausch mit den anderen Startups und bekommst Antworten auf deine individuellen Fragen. \n\n\n\nDieses Event bietet eine hervorragende Gelegenheit\, praktische Vertriebsfähigkeiten zu erlernen\, sich mit Gleichgesinnten auszutauschen und ein Netzwerk mit Branchenexperten aufzubauen\, die den Vertriebserfolg nachhaltig steigern können. \n\n\n\nIm Präsenz-Workshop gewinnst du einen Überblick über die wichtigsten Aspekte. Im Anschluss kannst du dich mit anderen Startups austauschen. Eine Anmeldung ist erforderlich. Die Teilnahme kostet 10€.  \n\n\n\nDas STARTUP xpress CURRICULUM ist ein umfangreiches Vortrags- und Workshop Angebot für Startups bzw. Gründer:innen aus der Region Böblingen/Stuttgart. Es gibt dir alle Business Informationen und Werkzeuge an die Hand\, damit du für deinen Weg zu einem erfolgreichen Startup bestens gewappnet bist! \n\n\n\nDieser Event ist Teil des STARTUP xpress CURRICULUM. Für die Terminübersicht klicke den Button. \n\n\n\n\nWeitere Termine\n\n\n\n\n\n\n\n\n\n  \n\nSpeaker\n\n\n\n\n\n\n\n\n\n\n\n \n\n\n\nWolfgang Vogt\, Senioren der Wirtschaft \n\n\n\nist Vorstandsmitglied bei den Senioren der Wirtschaft und berät seit 10 Jahren in der Beratung von Gründern/Startups und kleineren Mittelständlern aktiv. Wolfgang ist Gründerlotse im Raum Böblingen. Er ist Referent für Vorträge und Workshops bei Hochschulen\, Acceleratoren und anderen Institutionen. Er hat Lehraufträge bei der ESB Reutlingen und der DHBW Stuttgart und ist Jury Mitglied bei vielen Startup Veranstaltungen. Davor war er Direktor Strategie & Marketing bei IBM. Er berät Startups seit mehr als 10 Jahren. \n\n\n\n\n\n\n\n\n\n\n\n\n\n\n\n\n  \n\nAnmeldung\n\n\n\n\n\n\n\n\n\n\n\n\n\n\n\n\n  \n\nVeranstalter
URL:https://aixpress.io/events/pitch-training-startup-curriculum-advanced-1-2026/
LOCATION:AI xpress\, Röhrer Weg 8\, Böblingen\, 71032\, Deutschland
CATEGORIES:Curriculum,Events Startups
ATTACH;FMTTYPE=image/png:https://aixpress.io/wp-content/uploads/2025/02/AI_Curriculum_Advanced_2480x580_18.11.25-12.3.26.png
END:VEVENT
END:VCALENDAR