BEGIN:VCALENDAR
VERSION:2.0
PRODID:-//AI xpress - ECPv6.15.17.1//NONSGML v1.0//EN
CALSCALE:GREGORIAN
METHOD:PUBLISH
X-ORIGINAL-URL:https://aixpress.io
X-WR-CALDESC:Veranstaltungen für AI xpress
REFRESH-INTERVAL;VALUE=DURATION:PT1H
X-Robots-Tag:noindex
X-PUBLISHED-TTL:PT1H
BEGIN:VTIMEZONE
TZID:Europe/Berlin
BEGIN:DAYLIGHT
TZOFFSETFROM:+0100
TZOFFSETTO:+0200
TZNAME:CEST
DTSTART:20250330T010000
END:DAYLIGHT
BEGIN:STANDARD
TZOFFSETFROM:+0200
TZOFFSETTO:+0100
TZNAME:CET
DTSTART:20251026T010000
END:STANDARD
BEGIN:DAYLIGHT
TZOFFSETFROM:+0100
TZOFFSETTO:+0200
TZNAME:CEST
DTSTART:20260329T010000
END:DAYLIGHT
BEGIN:STANDARD
TZOFFSETFROM:+0200
TZOFFSETTO:+0100
TZNAME:CET
DTSTART:20261025T010000
END:STANDARD
BEGIN:DAYLIGHT
TZOFFSETFROM:+0100
TZOFFSETTO:+0200
TZNAME:CEST
DTSTART:20270328T010000
END:DAYLIGHT
BEGIN:STANDARD
TZOFFSETFROM:+0200
TZOFFSETTO:+0100
TZNAME:CET
DTSTART:20271031T010000
END:STANDARD
END:VTIMEZONE
BEGIN:VEVENT
DTSTART;TZID=Europe/Berlin:20260602T160000
DTEND;TZID=Europe/Berlin:20260602T190000
DTSTAMP:20260424T132634
CREATED:20250221T093741Z
LAST-MODIFIED:20260413T113142Z
UID:10000830-1780416000-1780426800@aixpress.io
SUMMARY:Finanzplanung als Basis für Finanzierung und Controlling\, sowie als Basis für EXIST Anträge – STARTUP xpress CURRICULUM Advanced (1. Halbjahr 2026)
DESCRIPTION:Präsenz-Workshop für Startups  \n\n\n\n\n\nBeschreibung \n\n\n\nWie gelingt es\, eine Geschäftsidee in Zahlen zu fassen? Wie kannst du zukünftige Umsätze\, Investitionen und Kosten realistisch einschätzen? Kann man überhaupt „richtig“ planen oder ist es vielleicht doch nur der Blick in die Glaskugel? Wie ist das mit der Rentabilität und der Liquidität? Wie kann man aus dem Zahlenmodell frühzeitig Chancen und vor allem auch Risiken für sein Startup erkennen? Das Seminar gibt Antworten auf diese Fragen. An Hand eines leicht verständlichen Finanzplanungstools lernst du\, deine Planung für Umsatz\, Investitionen und Kosten zu erstellen und die Auswertungen zu Rentabilität\, Liquidität und zum Finanzbedarf zu bewerten. Mit Soll-Ist-Vergleichen und Forecasts für Rentabilität und Liquidität bekommst du ausreichend Transparenz\, damit du schon heute mit Umsicht deine Finanzen von morgen managen kannst. \n\n\n\nIm Präsenz-Workshop gewinnst du einen Überblick über die wichtigsten Aspekte. Im Anschluss kannst du dich mit anderen Startups austauschen. Eine Anmeldung ist erforderlich. Die Teilnahme kostet 10€. \n\n\n\nDas STARTUP xpress CURRICULUM ist ein umfangreiches Vortrags- und Workshop Angebot für Startups bzw. Gründer:innen aus der Region Böblingen/Stuttgart. Es gibt dir alle Business Informationen und Werkzeuge an die Hand\, damit du für deinen Weg zu einem erfolgreichen Startup bestens gewappnet bist! \n\n\n\n \n\n\n\nDieser Event ist Teil des STARTUP xpress CURRICULUM. Für die Terminübersicht klicke den Button. \n\n\n\n\nWeitere Termine\n\n\n\n\n\n\n\n\n\n  \n\nSpeaker\n\n\n\n\n\n\n\n\n\n\n\nLothar Schubert\, Senioren der Wirtschaft e. V.  \n\n\n\nist Betriebswirtschaftler mit langjähriger Management-Erfahrung in der Verlags- und Medienbranche. Für die Senioren der Wirtschaft ist er mit Herzblut als Wirtschaftssenior für Startups und kleine Unternehmen tätig\, sein Lieblingsfeld sind digitale Geschäftsmodelle. Er ist Referent für Vorträge und Workshops bei Hochschulen\, Acceleratoren und anderen Institutionen\, Gastdozent an der Hochschule der Medien\, Berater im Gründerbüro der Stadt Stuttgart und Gründerlotse im Raum Böblingen. \n\n\n\n\n\n\n\n\n\n\n\n\n\n\n\n\n  \n\nAnmeldung\n\n\n\n\n\n\n\n\n\n\n\n\n\n\n\n\n\n\n\n  \n\nVeranstalter
URL:https://aixpress.io/events/finanzplanung-startup-curriculum-advanced-1-2026/
LOCATION:AI xpress\, Röhrer Weg 8\, Böblingen\, 71032\, Deutschland
CATEGORIES:Curriculum,Events Startups
ATTACH;FMTTYPE=image/png:https://aixpress.io/wp-content/uploads/2025/02/AI_Curriculum_Advanced_2480x580_18.11.25-12.3.26.png
END:VEVENT
BEGIN:VEVENT
DTSTART;TZID=Europe/Berlin:20260609T160000
DTEND;TZID=Europe/Berlin:20260609T190000
DTSTAMP:20260424T132634
CREATED:20250221T093850Z
LAST-MODIFIED:20260415T080557Z
UID:10000745-1781020800-1781031600@aixpress.io
SUMMARY:Finanzierung\, Finanzgespräch\, Fördermittel - Roundtable – STARTUP xpress CURRICULUM Advanced (1. Halbjahr 2026)
DESCRIPTION:Präsenz-Workshop für Startups \n\n\n\n\n\nBeschreibung \n\n\n\nFinanzierung ist eine der größten Herausforderungen für Startups und essentiell für deren Wachstum und Überleben. Unser Roundtable „Finanzierung\, Finanzgespräch\, Fördermittel“ bietet eine Plattform\, um tief in die Themen der Kapitalbeschaffung einzutauchen. Erfahrene Gründer und Finanzexperten teilen ihre Erkenntnisse zu verschiedenen Finanzierungsquellen\, von Venture Capital über Business Angels bis hin zu öffentlichen Fördermitteln.  \n\n\n\nTeilnehmer erhalten wertvolle Tipps\, wie sie überzeugende Finanzgespräche führen\, die richtigen Förderprogramme für ihr Startup identifizieren und erfolgreich Mittel akquirieren können. Darüber hinaus werden Best Practices für die Vorbereitung auf Investorengespräche und die strategische Finanzplanung diskutiert. Nutze die Gelegenheit\, um von den Erfahrungen anderer zu lernen und dein Netzwerk mit wichtigen Finanzakteuren zu erweitern. \n\n\n\nIm Präsenz-Workshop gewinnst du einen Überblick über die wichtigsten Aspekte. Im Anschluss kannst du dich mit anderen Startups austauschen. Eine Anmeldung ist erforderlich. Die Teilnahme kostet 10€. \n\n\n\nDas STARTUP xpress CURRICULUM ist ein umfangreiches Vortrags- und Workshop Angebot für Startups bzw. Gründer:innen aus der Region Böblingen/Stuttgart. Es gibt dir alle Business Informationen und Werkzeuge an die Hand\, damit du für deinen Weg zu einem erfolgreichen Startup bestens gewappnet bist! \n\n\n\n \n\n\n\nDieser Event ist Teil des STARTUP xpress CURRICULUM. Für die Terminübersicht klicke den Button. \n\n\n\n\nWeitere Termine\n\n\n\n\n\n\n\n\n\n  \n\nSpeaker\n\n\n\n\n\n\n\n\n\n\n\nRudi Katz\, Senioren der Wirtschaft \n\n\n\nist seit mehr als 10 Jahren als Berater bei “Senioren der Wirtschaft” für Existenzgründer und Startups tätig. Die Schwerpunkte liegen in der Entwicklung und Verifizierung eines Finanz- und Businessplans und  in der Strukturierung eines passgenauen Finanzierungsmodells.Zuvor war Rudi Katz bei einem regionalen Kreditinstituts als stellvertretendes Vorstandsmitglied und Leiter des Geschäftsbereichs Unternehmenskunden tätig.Aus langjähriger Erfahrung kennt er die Besonderheiten\, Anforderungen und Gesetzmäßigkeiten eines Finanzierungsgesprächs und weiß\, auf was Kreditinstitute Wert legen. Er berät Startups seit 10 Jahren \n\n\n\n\n\n\n\n\n\n\n\n\n\nFrank Kraheberger (Dipl. Kaufmann)\,  \n\n\n\nist seit über 20 Jahren für Venture Capital Firmen im Bereich Hightech- und Innovationsfinanzierung tätig. In dieser Zeit 150+ Startup-Beteiligungen und 70+ Exits mitbegleitet. 5 Jahre geschäftsführender Gesellschafter einer eigenen Beratungsgesellschaft mit Schwerpunkt Finanzierungs- und Geschäftsmodellberatung\, Mitgründer mehrerer Start-ups. Seit 2018 Leiter des Bereichs Venture Capital bei der MBG Baden-Württemberg. \n\n\n\n\n\n\n\n\n\n\n\n\n\nHenning Schimpf (Dipl. Kaufmann (FH)\, MBA)\, Ministerium für Wirtschaft\, Arbeit und Tourismus Baden-Württemberg \n\n\n\nHenning Schimpft bringt eine 10-jährige Erfahrung als kaufmännischer Leiter mit und arbeitet seit sieben Jahren in der Landeswirtschaftsförderung für die Bereiche Existenzgründung\, Start-ups und Unternehmensnachfolge. Dazu zählt die Weiterentwicklung der öffentlichen Infrastruktur für Gründer\, darunter die Start-up BW Acceleratoren. Ist Ihr erfahrener Guide durch die Landes-Förderprogramme. \n\n\n\n\n\n\n\n\n\n\n\n\n\n\n\n\n\nThomas Römer\, Senioren der Wirtschaft \n\n\n\nverfügt über langjährige Erfahrung im gewerblichen und industriellen Kreditgeschäft. Er ist engagierter Sparringspartner für Startups und Gründer\, sowie bei der Weiterentwicklung bestehender Unternehmen. Tätigkeitsschwerpunkte bei den Senioren der Wirtschaft sind Business- und Finanzpläne\, die Plausibilisierung von Projekten und Planungen sowie die Übergabe / Übernahme von Unternehmen. Er ist Gründerlotse im Landkreis Böblingen und Berater im Gründerbüro der Stadt Stuttgart sowie div. anderen Institutionen\, Gastdozent an der Hochschule der Medien sowie Referent für Vorträge an Hochschulen\, bei Acceleratoren\, der IHK und anderen Institutionen \n\n\n\n\n\n\n\n\n\n\n\n\n  \n\nAnmeldung\n\n\n\n\n\n\n\n\n\n\n\n\n\n\n\n  \n\nVeranstalter
URL:https://aixpress.io/events/finanzierung-roundtable-startup-curriculum-advanced-1-2026/
CATEGORIES:Curriculum,Events Startups
ATTACH;FMTTYPE=image/png:https://aixpress.io/wp-content/uploads/2025/02/AI_Curriculum_Advanced_2480x580_18.11.25-12.3.26.png
END:VEVENT
BEGIN:VEVENT
DTSTART;TZID=Europe/Berlin:20260612T090000
DTEND;TZID=Europe/Berlin:20260612T170000
DTSTAMP:20260424T132634
CREATED:20260209T103552Z
LAST-MODIFIED:20260209T103601Z
UID:10000828-1781254800-1781283600@aixpress.io
SUMMARY:Kostenfreie Existenzgründungsberatung im AI xpress!
DESCRIPTION:Das Existenzgründungsberatungs-Team der Kreissparkasse Böblingen: Noah Lipp und Sven Rinderknecht \n\n\n\n\n\n\n\n\n\nDu willst Dein eigenes Business starten? Oder suchst eine Nachfolge-Lösung? \n\n\n\nDann nutze die kostenfreie Existenzgründungsberatung der Kreissparkasse Böblingen im COWORKING! \n\n\n\n\n\n\n\nDeine Vorteile auf einen Blick:🔍 Ganzheitliche Analyse und Beratung💶 Zugang/Hilfe zu passenden Fördermitteln & Darlehen🤝 Großes Netzwerk aus Experten📍 Vor-Ort-Betreuung im AI xpress \n\n\n\n\n\n\n\nKontakt für kostenfreie Terminvereinbarung: \n\n\n\n📧 Sven Rinderknecht – Sven.rinderknecht@kskbb.de | ☎️ 07031 77-1924📧 Noah Lipp – Noah.lipp@kskbb.de | ☎️ 07031 77-1033 \n\n\n\n \n\n\n\n\n\n\n\nDiese Veranstaltung findet statt\, Dank Unterstützung von:
URL:https://aixpress.io/events/kostenfreie-existenzgruendungsberatung-im-ai-xpress-9/
CATEGORIES:Curriculum,Events Jugendliche,Events Startups,Workshop
ATTACH;FMTTYPE=image/png:https://aixpress.io/wp-content/uploads/2025/01/AI_Linkedin_EventProfile_1584x396_RGB.png
END:VEVENT
BEGIN:VEVENT
DTSTART;TZID=Europe/Berlin:20260616T160000
DTEND;TZID=Europe/Berlin:20260616T190000
DTSTAMP:20260424T132634
CREATED:20250221T093958Z
LAST-MODIFIED:20260226T103015Z
UID:10000832-1781625600-1781636400@aixpress.io
SUMMARY:8. Steuerfragen - Roundtable – STARTUP xpress CURRICULUM Advanced (1. Halbjahr 2026)
DESCRIPTION:Präsenz-Workshop für Startups \n\n\n\n\n\nBeschreibung \n\n\n\nSteuerfragen spielen eine kritische Rolle in der Gründungs- und Wachstumsphase eines Startups. Unser Roundtable „Steuerfragen“ bietet eine einzigartige Gelegenheit\, sich mit Experten aus der Steuerberatung und erfolgreichen Gründern auszutauschen\, die ihre Erfahrungen und Strategien teilen. In dieser interaktiven Diskussionsrunde werden wir die komplexen steuerlichen Herausforderungen beleuchten\, mit denen Startups konfrontiert sind\, von der Wahl der richtigen Rechtsform über die Optimierung der Steuerlast bis hin zu spezifischen Steuervorteilen und -nachlässen\, die für junge Unternehmen verfügbar sind. Teilnehmer erhalten praktische Einblicke in effektive Steuerplanung\, Vermeidung häufiger Fehler und Nutzung staatlicher Förderungen. Zudem werden aktuelle Änderungen im Steuerrecht besprochen\, die für Startups relevant sind. Nutzen Sie die Chance\, Ihre drängendsten Fragen zu stellen und direktes Feedback von Fachleuten zu erhalten\, um Ihr Startup steuerlich optimal aufzustellen. \n\n\n\nIm Präsenz-Workshop gewinnst du einen Überblick über die wichtigsten Aspekte. Im Anschluss kannst du dich mit anderen Startups austauschen. Eine Anmeldung ist erforderlich. Die Teilnahme kostet 10€.  \n\n\n\nDas STARTUP xpress CURRICULUM ist ein umfangreiches Vortrags- und Workshop Angebot für Startups bzw. Gründer:innen aus der Region Böblingen/Stuttgart. Es gibt dir alle Business Informationen und Werkzeuge an die Hand\, damit du für deinen Weg zu einem erfolgreichen Startup bestens gewappnet bist! \n\n\n\nDieser Event ist Teil des STARTUP xpress CURRICULUM. Für die Terminübersicht klicke den Button. \n\n\n\n\nWeitere Termine\n\n\n\n\n\n\n\n\n\n  \n\nSpeaker\n\n\n\n\n\n\n\n\n\n\n\n \n\n\n\nSimone Kurz\, Kurz + Mössner \n\n\n\nist Dipl-oec.\, Steuerberaterin\, Gesellschafter Geschäftsführerin der KURZ+MÖSSNER\, Steuerberatungsgesellschaft bzw. Wirtschaftsprüfungsgesellschaft berät Unternehmen zu steuerlichen Themen in allen Lebensphasen\, auch bei der Existenzgründung – Referentin bei IHK-Seminaren zur Existenzgründung – Beratung von Start-up-Unternehmen von der Gründung an \n\n\n\n\n\n\n\n\n\n\n\n\n\n\n\n\n\n\n  \n\nAnmeldung\n\n\n\n\n\n\n\n\n\n\n\n\n\n\n\n\n  \n\nVeranstalter
URL:https://aixpress.io/events/steuerfragen-roundtable-startup-curriculum-advanced-1-2026/
LOCATION:AI xpress\, Röhrer Weg 8\, Böblingen\, 71032\, Deutschland
CATEGORIES:Curriculum,Events Startups
ATTACH;FMTTYPE=image/png:https://aixpress.io/wp-content/uploads/2025/02/AI_Curriculum_Advanced_2480x580_18.11.25-12.3.26.png
END:VEVENT
BEGIN:VEVENT
DTSTART;TZID=Europe/Berlin:20260623T160000
DTEND;TZID=Europe/Berlin:20260623T190000
DTSTAMP:20260424T132634
CREATED:20250221T094112Z
LAST-MODIFIED:20260415T080806Z
UID:10000833-1782230400-1782241200@aixpress.io
SUMMARY:Markenbildung\, Marken- und IP-Schutz\, Patentberatung – STARTUP xpress CURRICULUM Advanced (1. Halbjahr 2026)
DESCRIPTION:Präsenz-Workshop für Startups \n\n\n\n\n\nBeschreibung \n\n\n\nDie Bildung einer starken Marke und der Schutz des geistigen Eigentums sind entscheidende Schritte\, um sich in einem wettbewerbsintensiven Markt zu differenzieren und den Wert eines Startups zu steigern. Unser Event „Marken-Bildung\, Marken- und IP-Schutz\, Patentberatung“ bietet umfassende Einblicke in die Welt des Markenrechts und des geistigen Eigentums. Teilnehmende lernen\, wie sie eine markante Marke aufbauen\, ihre Innovationen schützen und rechtliche Fallstricke vermeiden. Experten aus dem Bereich des geistigen Eigentums teilen ihr Wissen über die Anmeldung von Patenten\, Marken und Designs sowie Strategien zum Schutz vor Verletzungen und zur Durchsetzung der eigenen Rechte. Zusätzlich werden Möglichkeiten der Lizenzierung und Monetarisierung von IP-Rechten erörtert\, um neue Einnahmequellen zu erschließen. Nutze die Chance\, um direkt von Spezialisten zu lernen und Dein Startup rechtlich abzusichern. \n\n\n\nIm Präsenz-Workshop gewinnst du einen Überblick über die wichtigsten Aspekte. Im Anschluss kannst du dich mit anderen Startups austauschen. Eine Anmeldung ist erforderlich. Die Teilnahme kostet 10€.  \n\n\n\nDas STARTUP xpress CURRICULUM ist ein umfangreiches Vortrags- und Workshop Angebot für Startups bzw. Gründer:innen aus der Region Böblingen/Stuttgart. Es gibt dir alle Business Informationen und Werkzeuge an die Hand\, damit du für deinen Weg zu einem erfolgreichen Startup bestens gewappnet bist! \n\n\n\nDieser Event ist Teil des STARTUP xpress CURRICULUM. Für die Terminübersicht klicke den Button. \n\n\n\n\nWeitere Termine\n\n\n\n\n\n\n\n\n\n  \n\nSpeaker\n\n\n\n\n\n\n\n\n\n\n\nElmar Meyer zu Bexten\, mzb.de \n\n\n\nElmar Meyer zu Bexten ist Diplom-Informatiker\, Diplom-Projektmanager (George Washington University)\, Patentanwalt\, European Patent Attorney sowie European Trademark and Design Attorney. Durch langjährige Tätigkeit als Softwareingenieur und Erfinder fühlt er sich in Forschung und Entwicklung ebenso heimisch wie im Rechtswesen. Elmars Kanzlei mzb.de spezialisiert sich auf Beratung und Vertretung von Existenzgründern\, Gründungsinteressierten und Jungunternehmern. \n\n\n\n\n\n\n\n\n\n\n\n\n\nKatharina Messerer \n\n\n\nKatharina Messerer ist eine erfahrene Kommunikationsdesignerin (B.A.) und Informationsdesignerin (M.A.) mit einem Schwerpunkt auf Markenaufbau und -strategie.  \n\n\n\nWährend ihres Studiums hatte sie Lehraufträge an der Fakultät Gestaltung der THWS im Bereich Markenstrategie. Als freiberufliche Designerin arbeitete sie bereits während ihres Studiums mit Kunden wie ProSiebenSat. 1 Media AG zusammen. \n\n\n\nIn ihrer langjährigen Tätigkeit als Art Direktorin in der Werbeagentur betreute sie bedeutende Marken wie Daimler\, TeamViewer und FUSO. Sie konzipierte\, gestaltete und setzte Markenworkshops sowie einheitliches Event- und Messedesign für Veranstaltungen wie die IAA und BAUMA um.  \n\n\n\nIhr Übergang in die Architektur ermöglichte es ihr\, Markenerlebnisse auch im Raum spürbar zu machen und Markenwelten erlebbar zu gestalten. Ihr Herz schlägt für strategisches Markendesign mit einem klaren Fokus auf die Schaffung nachhaltiger Marken. \n\n\n\n\n\n\n\n\n\n\n\n\n\n\n\n\n  \n\nAnmeldung\n\n\n\n\n\n\n\n\n\n\n\n\n\n\n\n\n  \n\nVeranstalter
URL:https://aixpress.io/events/markenbildung-startup-curriculum-advanced-1-2026/
LOCATION:AI xpress\, Röhrer Weg 8\, Böblingen\, 71032\, Deutschland
CATEGORIES:Curriculum,Events Startups
ATTACH;FMTTYPE=image/png:https://aixpress.io/wp-content/uploads/2025/02/AI_Curriculum_Advanced_2480x580_18.11.25-12.3.26.png
END:VEVENT
BEGIN:VEVENT
DTSTART;TZID=Europe/Berlin:20260625T090000
DTEND;TZID=Europe/Berlin:20260625T120000
DTSTAMP:20260424T132634
CREATED:20250826T080412Z
LAST-MODIFIED:20260121T101050Z
UID:10000806-1782378000-1782388800@aixpress.io
SUMMARY:Kostenfreie Existenzgründungsberatung im AI xpress!
DESCRIPTION:Die Existenzgründungsberaterin der Volksbank Böblingen Rebekka Gey  \n\n\n\n\n\n\n\n\n\nDu willst Dein eigenes Business starten? Oder suchst eine Nachfolge-Lösung? \n\n\n\nDann nutze die kostenfreie Existenzgründungsberatung der Volksbank Böblingen! \n\n\n\n\n\n\n\nDeine Vorteile auf einen Blick:🔍 Ganzheitliche Analyse und Beratung💶 Zugang/Hilfe zu passenden Fördermitteln & Darlehen🤝 Großes Netzwerk aus Experten📍 Vor-Ort-Betreuung im AI xpress \n\n\n\n\n\n\n\nKontakt für kostenfreie Terminvereinbarung:📧 Rebekka Gey – Rebekka.Gey@diebank.de | ☎️ 07031-8645160 \n\n\n\n \n\n\n\n\n\n\n\nDiese Veranstaltung findet statt\, Dank Unterstützung von:
URL:https://aixpress.io/events/kostenfreie-existenzgruendungsberatung-im-ai-xpress-5-2-2/2026-06-25/
CATEGORIES:Curriculum,Events Jugendliche,Events Startups,Workshop
ATTACH;FMTTYPE=image/png:https://aixpress.io/wp-content/uploads/2025/01/AI_Linkedin_EventProfile_1584x396_RGB.png
END:VEVENT
BEGIN:VEVENT
DTSTART;TZID=Europe/Berlin:20260630T160000
DTEND;TZID=Europe/Berlin:20260630T190000
DTSTAMP:20260424T132634
CREATED:20250221T094221Z
LAST-MODIFIED:20260415T080825Z
UID:10000834-1782835200-1782846000@aixpress.io
SUMMARY:Kunden mit Marketing überzeugen - Customer Journey – STARTUP xpress CURRICULUM Advanced (1. Halbjahr 2026)
DESCRIPTION:Präsenz-Workshop für Startups \n\n\n\n\n\nBeschreibung \n\n\n\nDas Verstehen und Beeinflussen der Customer Journey ist entscheidend\, um Kunden effektiv durch Marketingmaßnahmen zu gewinnen und langfristig zu binden. Unser Event „Kunden mit Marketing überzeugen – Customer Journey“ bietet praktische Einblicke und Strategien\, um die verschiedenen Berührungspunkte eines Kunden mit deiner Marke optimal zu nutzen. Erfahrene Marketingspezialisten und erfolgreiche Gründer teilen ihre Erfahrungen und besten Praktiken\, um eine überzeugende Kundenreise zu gestalten – von der ersten Aufmerksamkeit über die Kaufentscheidung bis hin zur Loyalität. \n\n\n\nTeilnehmer lernen\, wie man effektive Marketingstrategien entwickelt\, die auf tiefgreifenden Kundenanalysen basieren\, und wie digitale Tools und soziale Medien genutzt werden können\, um Zielgruppen gezielt anzusprechen und zu engagieren. Außerdem werden Methoden zur Messung und Analyse der Customer Journey vorgestellt\, um Marketingmaßnahmen kontinuierlich zu optimieren und den ROI zu maximieren. Dieses Event bietet die Möglichkeit\, von Experten zu lernen\, inspirierende Fallstudien zu hören und wertvolle Kontakte zu knüpfen\, um dein Marketing auf das nächste Level zu heben. \n\n\n\nIm Präsenz-Workshop gewinnst du einen Überblick über die wichtigsten Aspekte. Im Anschluss kannst du dich mit anderen Startups austauschen. Eine Anmeldung ist erforderlich. Die Teilnahme kostet 10€.  \n\n\n\nDas STARTUP xpress CURRICULUM ist ein umfangreiches Vortrags- und Workshop Angebot für Startups bzw. Gründer:innen aus der Region Böblingen/Stuttgart. Es gibt dir alle Business Informationen und Werkzeuge an die Hand\, damit du für deinen Weg zu einem erfolgreichen Startup bestens gewappnet bist! \n\n\n\nDieser Event ist Teil des STARTUP xpress CURRICULUM. Für die Terminübersicht klicke den Button. \n\n\n\n\nWeitere Termine\n\n\n\n\n\n\n\n\n\n  \n\nSpeaker\n\n\n\n\n\n\n\n\n\n\n\n \n\n\n\nAndreas Heilemann\, Senioren der Wirtschaft \n\n\n\nist Mitglied bei den Senioren der Wirtschaft und berät seit 2023 Gründer/Startups und kleineren Mittelständlern aktiv.  \n\n\n\nSeine Kernthemen sind Strategie\, Kundengewinnung\, Vertrieb\, Services und deren Abbildung in Business- und Finanzplänen. Andreas kommt aus der Softwarentwicklung und IT-Beratung und war bis 2018 für den Abschluss und die Erbringung großer Anwendungsentwicklungsprojekte verantwortlich. Bei IBM war er unter anderem Partner im Consulting Bereich und Vorsitzender der Geschäftsführung einer Tochtergesellschaft.  \n\n\n\n\n\n\n\n\n\n\n\n\n\n\n\n\n  \n\nAnmeldung\n\n\n\n\n\n\n\n\n\n\n\n\n\n\n\n\n  \n\nVeranstalter
URL:https://aixpress.io/events/customer-journey-startup-curriculum-advanced-1-2026/
LOCATION:AI xpress\, Röhrer Weg 8\, Böblingen\, 71032\, Deutschland
CATEGORIES:Curriculum,Events Startups
ATTACH;FMTTYPE=image/png:https://aixpress.io/wp-content/uploads/2025/02/AI_Curriculum_Advanced_2480x580_18.11.25-12.3.26.png
END:VEVENT
END:VCALENDAR